BEGIN:VCALENDAR
VERSION:2.0
PRODID:icalendar-ruby
CALSCALE:GREGORIAN
BEGIN:VEVENT
DTSTAMP:20260422T081905Z
UID:e1af91c9-6e6b-4a5f-bebb-bb96b40cd94f
DTSTART;TZID=Pacific/Auckland:20260425T155000
DTEND;TZID=Pacific/Auckland:20260425T161500
DESCRIPTION:Property ID# 995127
SUMMARY:Openhome for 9 Sovereign Court
END:VEVENT
END:VCALENDAR
